BEGIN:VCALENDAR
VERSION:2.0
PRODID:-//Commune de Villars-sur-Glâne - ECPv6.15.17.1//NONSGML v1.0//EN
CALSCALE:GREGORIAN
METHOD:PUBLISH
X-WR-CALNAME:Commune de Villars-sur-Glâne
X-ORIGINAL-URL:https://www.villars-sur-glane.ch
X-WR-CALDESC:Évènements pour Commune de Villars-sur-Glâne
REFRESH-INTERVAL;VALUE=DURATION:PT1H
X-Robots-Tag:noindex
X-PUBLISHED-TTL:PT1H
BEGIN:VTIMEZONE
TZID:Europe/Zurich
BEGIN:DAYLIGHT
TZOFFSETFROM:+0100
TZOFFSETTO:+0200
TZNAME:CEST
DTSTART:20250330T010000
END:DAYLIGHT
BEGIN:STANDARD
TZOFFSETFROM:+0200
TZOFFSETTO:+0100
TZNAME:CET
DTSTART:20251026T010000
END:STANDARD
BEGIN:DAYLIGHT
TZOFFSETFROM:+0100
TZOFFSETTO:+0200
TZNAME:CEST
DTSTART:20260329T010000
END:DAYLIGHT
BEGIN:STANDARD
TZOFFSETFROM:+0200
TZOFFSETTO:+0100
TZNAME:CET
DTSTART:20261025T010000
END:STANDARD
BEGIN:DAYLIGHT
TZOFFSETFROM:+0100
TZOFFSETTO:+0200
TZNAME:CEST
DTSTART:20270328T010000
END:DAYLIGHT
BEGIN:STANDARD
TZOFFSETFROM:+0200
TZOFFSETTO:+0100
TZNAME:CET
DTSTART:20271031T010000
END:STANDARD
END:VTIMEZONE
BEGIN:VEVENT
DTSTART;TZID=Europe/Zurich:20260412T133000
DTEND;TZID=Europe/Zurich:20260412T163000
DTSTAMP:20260422T235828
CREATED:20251121T085332Z
LAST-MODIFIED:20251121T085601Z
UID:10004611-1776000600-1776011400@www.villars-sur-glane.ch
SUMMARY:Open­Sun­day pour les enfants de l’é­cole pri­maire
DESCRIPTION:Prologue du Tour de Romandie 2026				\n				\n				\n		\n				\n				\n																														\n				\n				\n					\n				\n		\n					\n		\n				\n				\n									DateMardi 28 avril 2026 								\n				\n				\n				\n									LieuCentre de Villars-sur-Glâne 								\n				\n				\n				\n									ParcoursContre-la-montre individuel\, départ et arrivée à Villars-sur-Glâne​ 								\n				\n				\n				\n									Infos pratiquesVous pourrez trouver toutes les informations concernant le Tour de Romandie 2026 dans la brochure ci-dessous. 								\n				\n				\n				\n							\n			\n		\n		\n			\n				\n			\n			\n				\n			\n			\n				\n			\n			\n				\n			\n			\n				\n			\n			\n				\n			\n			\n				\n			\n			\n		\n		\n						\n				\n				\n				\n					\n		\n					\n									\n													\n								Brochure Tour de Romandie							\n											\n													\n						2 avril 2026					 \n							\n					\n				\n				\n				\n					\n				\n		\n					\n				\n				\n					Le Tour de Romandie à Villars-sur-Glâne\n				\n				\n				\n				\n									Le Tour de Romandie 2026 fera halte dans notre commune pour son prologue\, le 28 avril 2026. Ce sera un très grand moment de sport et un spectacle haut en couleur. En plus de la course\, de nombreuses animations seront proposées durant cette journée.   Le Tour de Romandie est diffusé dans 128 pays et touche près de 25 millions de téléspectateurs dans le monde entier. L’organisation du prologue de Villars-sur-Glâne offrira donc une très belle vitrine à la commune. Le prologue est une courte épreuve individuelle contre-la-montre\, disputée sur un parcours en boucle. Les coureurs s’élancent l’un après l’autre sur le parcours\, ce qui garantit à la fois un spectacle de grande qualité durant toute l’après-midi du 28 avril sur les routes de la commune et une bien plus grande visibilité pour la commune que lors d’une étape « classique ».   Le tracé de la boucle du prologue sera présenté ultérieurement dans une édition spéciale du journal communal qui vous parviendra le printemps prochain. C’est aussi à ce moment-là que vous pourrez découvrir les restrictions de circulation qui seront immanquablement mises en place durant cette journée. Cette édition spéciale contiendra toutes les informations utiles pour vivre cette fête du cyclisme de la meilleure des manières.   L’Administration communale\, en collaboration avec le Vélo-Club Fribourg\, s’engagera pour faire de cette journée un moment inoubliable\, qui marquera l’histoire sportive de Villars-sur-Glâne\, avec l’aide de nombreuses collaboratrices et de nombreux collaborateurs communaux. Un comité d’organisation ad hoc présidé par le conseiller communal François Grangier est à pied d’œuvre. Il lui tient également à cœur d’impliquer le plus de personnes possibles dans cette fête\, en particulier les enfants qui seront invités à vivre l’événement au plus près\, notamment en participant\, en fin de matinée\, à une course de vélo disputée en ouverture de l’épreuve professionnelle\, sur le même parcours. 								\n				\n					\n				\n		\n					\n		\n				\n				\n					Informations sur la circulation				\n				\n				\n				\n									La circulation lors du Tour de Romandie se verra modifiée comme présenté sur le plan ci-dessous. 								\n				\n				\n				\n																														\n				\n				\n		\n				\n				\n					Dossier de sponsoring				\n				\n				\n				\n									La Commune de Villars-sur-Glâne et le Tour de Romandie proposent plusieurs formules de partenariat. Téléchargez le dossier de sponsoring complet en cliquant sur le lien ci-dessous : 								\n				\n				\n				\n									\n					\n						\n									Dossier de sponsoring
URL:https://www.villars-sur-glane.ch/evenement/opensunday-pour-les-enfants-de-lecole-primaire/2026-04-12/
CATEGORIES:Animation jeunesse
ATTACH;FMTTYPE=image/jpeg:https://www.villars-sur-glane.ch/wp-content/uploads/2025/11/IdeeSport_20230305_CJP_L1200836_Print1.jpg
END:VEVENT
END:VCALENDAR