BEGIN:VCALENDAR
VERSION:2.0
PRODID:-//Commune de Villars-sur-Glâne - ECPv6.15.17.1//NONSGML v1.0//EN
CALSCALE:GREGORIAN
METHOD:PUBLISH
X-WR-CALNAME:Commune de Villars-sur-Glâne
X-ORIGINAL-URL:https://www.villars-sur-glane.ch
X-WR-CALDESC:Évènements pour Commune de Villars-sur-Glâne
REFRESH-INTERVAL;VALUE=DURATION:PT1H
X-Robots-Tag:noindex
X-PUBLISHED-TTL:PT1H
BEGIN:VTIMEZONE
TZID:Europe/Zurich
BEGIN:DAYLIGHT
TZOFFSETFROM:+0100
TZOFFSETTO:+0200
TZNAME:CEST
DTSTART:20250330T010000
END:DAYLIGHT
BEGIN:STANDARD
TZOFFSETFROM:+0200
TZOFFSETTO:+0100
TZNAME:CET
DTSTART:20251026T010000
END:STANDARD
BEGIN:DAYLIGHT
TZOFFSETFROM:+0100
TZOFFSETTO:+0200
TZNAME:CEST
DTSTART:20260329T010000
END:DAYLIGHT
BEGIN:STANDARD
TZOFFSETFROM:+0200
TZOFFSETTO:+0100
TZNAME:CET
DTSTART:20261025T010000
END:STANDARD
BEGIN:DAYLIGHT
TZOFFSETFROM:+0100
TZOFFSETTO:+0200
TZNAME:CEST
DTSTART:20270328T010000
END:DAYLIGHT
BEGIN:STANDARD
TZOFFSETFROM:+0200
TZOFFSETTO:+0100
TZNAME:CET
DTSTART:20271031T010000
END:STANDARD
END:VTIMEZONE
BEGIN:VEVENT
DTSTART;TZID=Europe/Zurich:20260613T093000
DTEND;TZID=Europe/Zurich:20260613T113000
DTSTAMP:20260423T000550
CREATED:20260402T141732Z
LAST-MODIFIED:20260402T141732Z
UID:10005242-1781343000-1781350200@www.villars-sur-glane.ch
SUMMARY:Initiation au parcours santé Okenawa
DESCRIPTION:Prévention de la santé \nNous vous invitons à venir découvrir notre parcours santé OKENAWA. \nCe parcours santé & prévention par le mouvement a pour but de prévenir la sédentarité et les nombreuses maladies qui lui sont associées\, en particulier l’ostéoporose. \nDeux matinées d’initiation seront offertes à la population \n     les samedis  13 juin et 5 septembre 2026 de 09h30 à 11h30. \nRendez-vous à 9h15 devant le dojo du Judo club à la route du Centre Sportif 1\, 1752 Villars-sur-Glâne\, par tous les temps \nTenue confortable\, chaussures\nde marche et bouteille d’eau.\nSi nécessaire\, protections solaires \nContact :\nMélanie Lema 076 280 45 94\,\nBenoît Fellay 079 650 56 27\ninfo@okenawa.ch\, www.okenawa.ch \nVoir le flyer ci-joint
URL:https://www.villars-sur-glane.ch/evenement/initiation-au-parcours-sante-okenawa/2026-06-13/
LOCATION:Centre Sportif 1  VSG\, Villars-sur-Glâne\, 1752\, Suisse
ATTACH;FMTTYPE=application/pdf:https://www.villars-sur-glane.ch/wp-content/uploads/2026/04/Flyer-final-Parcours-Okenawa-pour-commune_13.03.2026.pdf
END:VEVENT
BEGIN:VEVENT
DTSTART;TZID=Europe/Zurich:20260905T093000
DTEND;TZID=Europe/Zurich:20260905T113000
DTSTAMP:20260423T000550
CREATED:20260402T141732Z
LAST-MODIFIED:20260402T141732Z
UID:10005243-1788600600-1788607800@www.villars-sur-glane.ch
SUMMARY:Initiation au parcours santé Okenawa
DESCRIPTION:Prévention de la santé \nNous vous invitons à venir découvrir notre parcours santé OKENAWA. \nCe parcours santé & prévention par le mouvement a pour but de prévenir la sédentarité et les nombreuses maladies qui lui sont associées\, en particulier l’ostéoporose. \nDeux matinées d’initiation seront offertes à la population \n     les samedis  13 juin et 5 septembre 2026 de 09h30 à 11h30. \nRendez-vous à 9h15 devant le dojo du Judo club à la route du Centre Sportif 1\, 1752 Villars-sur-Glâne\, par tous les temps \nTenue confortable\, chaussures\nde marche et bouteille d’eau.\nSi nécessaire\, protections solaires \nContact :\nMélanie Lema 076 280 45 94\,\nBenoît Fellay 079 650 56 27\ninfo@okenawa.ch\, www.okenawa.ch \nVoir le flyer ci-joint
URL:https://www.villars-sur-glane.ch/evenement/initiation-au-parcours-sante-okenawa/2026-09-05/
LOCATION:Centre Sportif 1  VSG\, Villars-sur-Glâne\, 1752\, Suisse
ATTACH;FMTTYPE=application/pdf:https://www.villars-sur-glane.ch/wp-content/uploads/2026/04/Flyer-final-Parcours-Okenawa-pour-commune_13.03.2026.pdf
END:VEVENT
END:VCALENDAR