BEGIN:VCALENDAR
VERSION:2.0
PRODID:-//Commune de Villars-sur-Glâne - ECPv6.15.17.1//NONSGML v1.0//EN
CALSCALE:GREGORIAN
METHOD:PUBLISH
X-ORIGINAL-URL:https://www.villars-sur-glane.ch
X-WR-CALDESC:Évènements pour Commune de Villars-sur-Glâne
REFRESH-INTERVAL;VALUE=DURATION:PT1H
X-Robots-Tag:noindex
X-PUBLISHED-TTL:PT1H
BEGIN:VTIMEZONE
TZID:Europe/Zurich
BEGIN:DAYLIGHT
TZOFFSETFROM:+0100
TZOFFSETTO:+0200
TZNAME:CEST
DTSTART:20250330T010000
END:DAYLIGHT
BEGIN:STANDARD
TZOFFSETFROM:+0200
TZOFFSETTO:+0100
TZNAME:CET
DTSTART:20251026T010000
END:STANDARD
BEGIN:DAYLIGHT
TZOFFSETFROM:+0100
TZOFFSETTO:+0200
TZNAME:CEST
DTSTART:20260329T010000
END:DAYLIGHT
BEGIN:STANDARD
TZOFFSETFROM:+0200
TZOFFSETTO:+0100
TZNAME:CET
DTSTART:20261025T010000
END:STANDARD
BEGIN:DAYLIGHT
TZOFFSETFROM:+0100
TZOFFSETTO:+0200
TZNAME:CEST
DTSTART:20270328T010000
END:DAYLIGHT
BEGIN:STANDARD
TZOFFSETFROM:+0200
TZOFFSETTO:+0100
TZNAME:CET
DTSTART:20271031T010000
END:STANDARD
END:VTIMEZONE
BEGIN:VEVENT
DTSTART;TZID=Europe/Zurich:20260425T091500
DTEND;TZID=Europe/Zurich:20260425T094500
DTSTAMP:20260422T181348
CREATED:20260106T082824Z
LAST-MODIFIED:20260106T082824Z
UID:10004741-1777108500-1777110300@www.villars-sur-glane.ch
SUMMARY:Né pour lire
DESCRIPTION:Né pour lire \n\nSamedi 31 janvier 2026\nde 9h15 à 9h45\nBibliothèque communale\nDes histoires pour découvrir les livres dès le plus jeune âge et partager un moment de tendresse. De 0 à 4 ans\, inscription obligatoire sur le site web de la bibliothèque.
URL:https://www.villars-sur-glane.ch/evenement/ne-pour-lire-3/2026-04-25/
LOCATION:Bibliothèque Communale\, Rte de Villars-Vert 48\, Villars-sur-Glâne\, Fribourg\, 1752\, Suisse
CATEGORIES:Animation jeunesse
ATTACH;FMTTYPE=image/jpeg:https://www.villars-sur-glane.ch/wp-content/uploads/2026/01/1767687615075-2b5ca762-e9f4-4052-b785-5c31379312dd_1.jpg
END:VEVENT
BEGIN:VEVENT
DTSTART;TZID=Europe/Zurich:20260530T091500
DTEND;TZID=Europe/Zurich:20260530T094500
DTSTAMP:20260422T181348
CREATED:20260106T082824Z
LAST-MODIFIED:20260106T082824Z
UID:10004742-1780132500-1780134300@www.villars-sur-glane.ch
SUMMARY:Né pour lire
DESCRIPTION:Né pour lire \n\nSamedi 31 janvier 2026\nde 9h15 à 9h45\nBibliothèque communale\nDes histoires pour découvrir les livres dès le plus jeune âge et partager un moment de tendresse. De 0 à 4 ans\, inscription obligatoire sur le site web de la bibliothèque.
URL:https://www.villars-sur-glane.ch/evenement/ne-pour-lire-3/2026-05-30/
LOCATION:Bibliothèque Communale\, Rte de Villars-Vert 48\, Villars-sur-Glâne\, Fribourg\, 1752\, Suisse
CATEGORIES:Animation jeunesse
ATTACH;FMTTYPE=image/jpeg:https://www.villars-sur-glane.ch/wp-content/uploads/2026/01/1767687615075-2b5ca762-e9f4-4052-b785-5c31379312dd_1.jpg
END:VEVENT
END:VCALENDAR