BEGIN:VCALENDAR
VERSION:2.0
PRODID:-//Commune de Villars-sur-Glâne - ECPv6.15.17.1//NONSGML v1.0//EN
CALSCALE:GREGORIAN
METHOD:PUBLISH
X-ORIGINAL-URL:https://www.villars-sur-glane.ch
X-WR-CALDESC:Évènements pour Commune de Villars-sur-Glâne
REFRESH-INTERVAL;VALUE=DURATION:PT1H
X-Robots-Tag:noindex
X-PUBLISHED-TTL:PT1H
BEGIN:VTIMEZONE
TZID:Europe/Zurich
BEGIN:DAYLIGHT
TZOFFSETFROM:+0100
TZOFFSETTO:+0200
TZNAME:CEST
DTSTART:20240331T010000
END:DAYLIGHT
BEGIN:STANDARD
TZOFFSETFROM:+0200
TZOFFSETTO:+0100
TZNAME:CET
DTSTART:20241027T010000
END:STANDARD
BEGIN:DAYLIGHT
TZOFFSETFROM:+0100
TZOFFSETTO:+0200
TZNAME:CEST
DTSTART:20250330T010000
END:DAYLIGHT
BEGIN:STANDARD
TZOFFSETFROM:+0200
TZOFFSETTO:+0100
TZNAME:CET
DTSTART:20251026T010000
END:STANDARD
BEGIN:DAYLIGHT
TZOFFSETFROM:+0100
TZOFFSETTO:+0200
TZNAME:CEST
DTSTART:20260329T010000
END:DAYLIGHT
BEGIN:STANDARD
TZOFFSETFROM:+0200
TZOFFSETTO:+0100
TZNAME:CET
DTSTART:20261025T010000
END:STANDARD
END:VTIMEZONE
BEGIN:VEVENT
DTSTART;TZID=Europe/Zurich:20251125T080000
DTEND;TZID=Europe/Zurich:20251125T170000
DTSTAMP:20260423T100213
CREATED:20251125T095423Z
LAST-MODIFIED:20251125T095423Z
UID:10004669-1764057600-1764090000@www.villars-sur-glane.ch
SUMMARY:Fenêtre de l'Avent Allée du château 6-9
DESCRIPTION:Les gentils voisins vous convient à petit apéro.
URL:https://www.villars-sur-glane.ch/evenement/fenetre-de-lavent-allee-du-chateau-6-9/
LOCATION:Allée du château 6-9
ATTACH;FMTTYPE=application/pdf:https://www.villars-sur-glane.ch/wp-content/uploads/2025/11/fenetre-de-lAvent-2025-4.pdf
END:VEVENT
END:VCALENDAR