BEGIN:VCALENDAR
VERSION:2.0
PRODID:-//Commune de Villars-sur-Glâne - ECPv6.15.17.1//NONSGML v1.0//EN
CALSCALE:GREGORIAN
METHOD:PUBLISH
X-ORIGINAL-URL:https://www.villars-sur-glane.ch
X-WR-CALDESC:Évènements pour Commune de Villars-sur-Glâne
REFRESH-INTERVAL;VALUE=DURATION:PT1H
X-Robots-Tag:noindex
X-PUBLISHED-TTL:PT1H
BEGIN:VTIMEZONE
TZID:Europe/Zurich
BEGIN:DAYLIGHT
TZOFFSETFROM:+0100
TZOFFSETTO:+0200
TZNAME:CEST
DTSTART:20250330T010000
END:DAYLIGHT
BEGIN:STANDARD
TZOFFSETFROM:+0200
TZOFFSETTO:+0100
TZNAME:CET
DTSTART:20251026T010000
END:STANDARD
BEGIN:DAYLIGHT
TZOFFSETFROM:+0100
TZOFFSETTO:+0200
TZNAME:CEST
DTSTART:20260329T010000
END:DAYLIGHT
BEGIN:STANDARD
TZOFFSETFROM:+0200
TZOFFSETTO:+0100
TZNAME:CET
DTSTART:20261025T010000
END:STANDARD
BEGIN:DAYLIGHT
TZOFFSETFROM:+0100
TZOFFSETTO:+0200
TZNAME:CEST
DTSTART:20270328T010000
END:DAYLIGHT
BEGIN:STANDARD
TZOFFSETFROM:+0200
TZOFFSETTO:+0100
TZNAME:CET
DTSTART:20271031T010000
END:STANDARD
END:VTIMEZONE
BEGIN:VEVENT
DTSTART;TZID=Europe/Zurich:20260130T193000
DTEND;TZID=Europe/Zurich:20260130T203000
DTSTAMP:20260423T012229
CREATED:20260111T085916Z
LAST-MODIFIED:20260111T085916Z
UID:10004755-1769801400-1769805000@www.villars-sur-glane.ch
SUMMARY:Atelier du rire
DESCRIPTION:Venez rééduquer votre moral sur le positif. \nRire c’est bon pour la santé.
URL:https://www.villars-sur-glane.ch/evenement/atelier-du-rire/
LOCATION:Bibliothèque\, route de l'église 7\, Villars-sur-Glâne\, 1752\, Suisse
ATTACH;FMTTYPE=application/pdf:https://www.villars-sur-glane.ch/wp-content/uploads/2026/01/Atelier-Yoga-du-rire.pdf
ORGANIZER;CN="Coh%C3%A9sion sociale":MAILTO:raphaelle.pugin@villars-sur-glane.ch
END:VEVENT
END:VCALENDAR