BEGIN:VCALENDAR
VERSION:2.0
PRODID:-//Commune de Villars-sur-Glâne - ECPv6.15.17.1//NONSGML v1.0//EN
CALSCALE:GREGORIAN
METHOD:PUBLISH
X-WR-CALNAME:Commune de Villars-sur-Glâne
X-ORIGINAL-URL:https://www.villars-sur-glane.ch
X-WR-CALDESC:Évènements pour Commune de Villars-sur-Glâne
REFRESH-INTERVAL;VALUE=DURATION:PT1H
X-Robots-Tag:noindex
X-PUBLISHED-TTL:PT1H
BEGIN:VTIMEZONE
TZID:Europe/Zurich
BEGIN:DAYLIGHT
TZOFFSETFROM:+0100
TZOFFSETTO:+0200
TZNAME:CEST
DTSTART:20240331T010000
END:DAYLIGHT
BEGIN:STANDARD
TZOFFSETFROM:+0200
TZOFFSETTO:+0100
TZNAME:CET
DTSTART:20241027T010000
END:STANDARD
BEGIN:DAYLIGHT
TZOFFSETFROM:+0100
TZOFFSETTO:+0200
TZNAME:CEST
DTSTART:20250330T010000
END:DAYLIGHT
BEGIN:STANDARD
TZOFFSETFROM:+0200
TZOFFSETTO:+0100
TZNAME:CET
DTSTART:20251026T010000
END:STANDARD
BEGIN:DAYLIGHT
TZOFFSETFROM:+0100
TZOFFSETTO:+0200
TZNAME:CEST
DTSTART:20260329T010000
END:DAYLIGHT
BEGIN:STANDARD
TZOFFSETFROM:+0200
TZOFFSETTO:+0100
TZNAME:CET
DTSTART:20261025T010000
END:STANDARD
END:VTIMEZONE
BEGIN:VEVENT
DTSTART;TZID=Europe/Zurich:20251211T160000
DTEND;TZID=Europe/Zurich:20251211T170000
DTSTAMP:20260423T035956
CREATED:20251013T133534Z
LAST-MODIFIED:20251013T133534Z
UID:10004326-1765468800-1765472400@www.villars-sur-glane.ch
SUMMARY:Contes de fin d'année - Cormanon
DESCRIPTION:Contes de fin d’année – Cormanon \n\n\nJeudi 11 décembre 2025\n\nde 16h à 17h\n\nGrande salle de l’école de Cormanon\n\n\nContes pour petits et grands dans l’ambiance magique des fêtes de fin d’année avec la Compagnie du Baluchon. Dès 6 ans\, inscription obligatoire.\n\n\nAffiche en pièce-jointe
URL:https://www.villars-sur-glane.ch/evenement/contes-de-fin-dannee-cormanon/
LOCATION:cormanon\, Rte de la Berra 2\, Villars-sur-Glâne\, 1752\, Suisse
CATEGORIES:Animation jeunesse
ATTACH;FMTTYPE=application/pdf:https://www.villars-sur-glane.ch/wp-content/uploads/2025/10/Aff_Med_Cult_Contesnoel-2.pdf
END:VEVENT
END:VCALENDAR