BEGIN:VCALENDAR
VERSION:2.0
PRODID:-//Commune de Villars-sur-Glâne - ECPv6.15.17.1//NONSGML v1.0//EN
CALSCALE:GREGORIAN
METHOD:PUBLISH
X-ORIGINAL-URL:https://www.villars-sur-glane.ch
X-WR-CALDESC:Évènements pour Commune de Villars-sur-Glâne
REFRESH-INTERVAL;VALUE=DURATION:PT1H
X-Robots-Tag:noindex
X-PUBLISHED-TTL:PT1H
BEGIN:VTIMEZONE
TZID:Europe/Zurich
BEGIN:DAYLIGHT
TZOFFSETFROM:+0100
TZOFFSETTO:+0200
TZNAME:CEST
DTSTART:20240331T010000
END:DAYLIGHT
BEGIN:STANDARD
TZOFFSETFROM:+0200
TZOFFSETTO:+0100
TZNAME:CET
DTSTART:20241027T010000
END:STANDARD
BEGIN:DAYLIGHT
TZOFFSETFROM:+0100
TZOFFSETTO:+0200
TZNAME:CEST
DTSTART:20250330T010000
END:DAYLIGHT
BEGIN:STANDARD
TZOFFSETFROM:+0200
TZOFFSETTO:+0100
TZNAME:CET
DTSTART:20251026T010000
END:STANDARD
BEGIN:DAYLIGHT
TZOFFSETFROM:+0100
TZOFFSETTO:+0200
TZNAME:CEST
DTSTART:20260329T010000
END:DAYLIGHT
BEGIN:STANDARD
TZOFFSETFROM:+0200
TZOFFSETTO:+0100
TZNAME:CET
DTSTART:20261025T010000
END:STANDARD
BEGIN:DAYLIGHT
TZOFFSETFROM:+0100
TZOFFSETTO:+0200
TZNAME:CEST
DTSTART:20270328T010000
END:DAYLIGHT
BEGIN:STANDARD
TZOFFSETFROM:+0200
TZOFFSETTO:+0100
TZNAME:CET
DTSTART:20271031T010000
END:STANDARD
END:VTIMEZONE
BEGIN:VEVENT
DTSTART;TZID=Europe/Zurich:20260307T080000
DTEND;TZID=Europe/Zurich:20260307T140000
DTSTAMP:20260423T070320
CREATED:20251014T111806Z
LAST-MODIFIED:20251014T120013Z
UID:10004332-1772870400-1772892000@www.villars-sur-glane.ch
SUMMARY:Tous en cuisine : saveurs d'ailleurs
DESCRIPTION:Sur inscription via vsg-animation.ch \nTu aimes cuisiner ou tu aimerais apprendre ? Alors viens préparer avec nous un repas complet\, sain et équilibré ! \nA la grande salle de l’école de Cormanon \nRdv sur le parking de l’école \nDès 9 ans
URL:https://www.villars-sur-glane.ch/evenement/tous-en-cuisine-saveurs-dailleurs/2026-03-07/
LOCATION:Ecole de Cormanon\, Route de la Berra 2\, Villars-sur-Glâne\, 1752\, Suisse
CATEGORIES:Animation jeunesse
ATTACH;FMTTYPE=image/jpeg:https://www.villars-sur-glane.ch/wp-content/uploads/2025/10/cuisine-scaled.jpg
ORGANIZER;CN="Villars-Animation":MAILTO:ana.domingues@villars-sur-glane.ch
END:VEVENT
BEGIN:VEVENT
DTSTART;TZID=Europe/Zurich:20260125T120000
DTEND;TZID=Europe/Zurich:20260125T153000
DTSTAMP:20260423T070320
CREATED:20260111T091541Z
LAST-MODIFIED:20260111T091628Z
UID:10004756-1769342400-1769355000@www.villars-sur-glane.ch
SUMMARY:Cuisine du Monde
DESCRIPTION:Des femmes de différentes cultures vous font découvrir leur cuisine. \nElles ont gagné le budget participatif de la commune. \n10 personnes peuvent venir apprendra à cuisiner et 50 personnes pourront goûter gratuitement aux mets. \nPréparation le 24 et Repas le 25 janvier. \nInscrivez-vous
URL:https://www.villars-sur-glane.ch/evenement/cuisine-du-monde/
LOCATION:Ecole de Cormanon\, Route de la Berra 2\, Villars-sur-Glâne\, 1752\, Suisse
ATTACH;FMTTYPE=application/pdf:https://www.villars-sur-glane.ch/wp-content/uploads/2026/01/cuisine-du-monde-1-1.pdf
ORGANIZER;CN="Coh%C3%A9sion sociale":MAILTO:raphaelle.pugin@villars-sur-glane.ch
END:VEVENT
BEGIN:VEVENT
DTSTART;TZID=Europe/Zurich:20260125T120000
DTEND;TZID=Europe/Zurich:20260125T150000
DTSTAMP:20260423T070320
CREATED:20260121T090751Z
LAST-MODIFIED:20260121T090751Z
UID:10004763-1769342400-1769353200@www.villars-sur-glane.ch
SUMMARY:Cuisine du Monde Cuisine erythréenne
DESCRIPTION:Grâce au budget participatif nous avons pu organiser cet atelier cuisine du monde. \nLe samedi 24 atelier apprentissage de la cuisine pour 10 personnes sur inscription. \nLe dimanche 25 à 12h repas offert pour 50 personnes sur inscription.
URL:https://www.villars-sur-glane.ch/evenement/cuisine-du-monde-cuisine-erythreenne/2026-01-25/
LOCATION:Ecole de Cormanon\, Route de la Berra 2\, Villars-sur-Glâne\, 1752\, Suisse
ATTACH;FMTTYPE=application/pdf:https://www.villars-sur-glane.ch/wp-content/uploads/2026/01/cuisine-du-monde-1-2.pdf
ORGANIZER;CN="Coh%C3%A9sion sociale":MAILTO:raphaelle.pugin@villars-sur-glane.ch
END:VEVENT
BEGIN:VEVENT
DTSTART;TZID=Europe/Zurich:20260124T090000
DTEND;TZID=Europe/Zurich:20260124T120000
DTSTAMP:20260423T070320
CREATED:20260121T090751Z
LAST-MODIFIED:20260121T090751Z
UID:10004762-1769245200-1769256000@www.villars-sur-glane.ch
SUMMARY:Cuisine du Monde Cuisine erythréenne
DESCRIPTION:Grâce au budget participatif nous avons pu organiser cet atelier cuisine du monde. \nLe samedi 24 atelier apprentissage de la cuisine pour 10 personnes sur inscription. \nLe dimanche 25 à 12h repas offert pour 50 personnes sur inscription.
URL:https://www.villars-sur-glane.ch/evenement/cuisine-du-monde-cuisine-erythreenne/2026-01-24/
LOCATION:Ecole de Cormanon\, Route de la Berra 2\, Villars-sur-Glâne\, 1752\, Suisse
ATTACH;FMTTYPE=application/pdf:https://www.villars-sur-glane.ch/wp-content/uploads/2026/01/cuisine-du-monde-1-2.pdf
ORGANIZER;CN="Coh%C3%A9sion sociale":MAILTO:raphaelle.pugin@villars-sur-glane.ch
END:VEVENT
BEGIN:VEVENT
DTSTART;TZID=Europe/Zurich:20260110T080000
DTEND;TZID=Europe/Zurich:20260110T140000
DTSTAMP:20260423T070320
CREATED:20251014T111806Z
LAST-MODIFIED:20251014T120013Z
UID:10004331-1768032000-1768053600@www.villars-sur-glane.ch
SUMMARY:Tous en cuisine : saveurs d'ailleurs
DESCRIPTION:Sur inscription via vsg-animation.ch \nTu aimes cuisiner ou tu aimerais apprendre ? Alors viens préparer avec nous un repas complet\, sain et équilibré ! \nA la grande salle de l’école de Cormanon \nRdv sur le parking de l’école \nDès 9 ans
URL:https://www.villars-sur-glane.ch/evenement/tous-en-cuisine-saveurs-dailleurs/2026-01-10/
LOCATION:Ecole de Cormanon\, Route de la Berra 2\, Villars-sur-Glâne\, 1752\, Suisse
CATEGORIES:Animation jeunesse
ATTACH;FMTTYPE=image/jpeg:https://www.villars-sur-glane.ch/wp-content/uploads/2025/10/cuisine-scaled.jpg
ORGANIZER;CN="Villars-Animation":MAILTO:ana.domingues@villars-sur-glane.ch
END:VEVENT
BEGIN:VEVENT
DTSTART;TZID=Europe/Zurich:20251205T160000
DTEND;TZID=Europe/Zurich:20251205T203000
DTSTAMP:20260423T070320
CREATED:20251023T151738Z
LAST-MODIFIED:20251023T151738Z
UID:10004344-1764950400-1764966600@www.villars-sur-glane.ch
SUMMARY:Fête et cortège de la Saint Nicolas
DESCRIPTION:Dans le cadre de la Saint-Nicolas \, les scouts\, l’animation et la cohésion sociale de Villars-sur-Glâne organisent un après-midi bricolage à la salle de l’école de Cormanon\, suivie d’un cortège aux flambeaux qui partira du Platy direction l’église à 18h30. \nDès 19h15\, le Saint-Nicolas\, accompagné par son âne\, fera son discours et distribuera des biscômes  devant la salle paroissiale. \nVous pourrez aussi vous régaler avec des crêpes et des gâteaux maison\, faits par les scouts.
URL:https://www.villars-sur-glane.ch/evenement/fete-et-cortege-de-la-saint-nicolas/
LOCATION:Ecole de Cormanon\, Route de la Berra 2\, Villars-sur-Glâne\, 1752\, Suisse
ATTACH;FMTTYPE=application/pdf:https://www.villars-sur-glane.ch/wp-content/uploads/2025/10/fete-de-la-saint-nicolas-2025.pdf
ORGANIZER;CN="Coh%C3%A9sion sociale":MAILTO:raphaelle.pugin@villars-sur-glane.ch
END:VEVENT
BEGIN:VEVENT
DTSTART;TZID=Europe/Zurich:20251108T080000
DTEND;TZID=Europe/Zurich:20251108T140000
DTSTAMP:20260423T070320
CREATED:20251014T111806Z
LAST-MODIFIED:20251014T120013Z
UID:10004330-1762588800-1762610400@www.villars-sur-glane.ch
SUMMARY:Tous en cuisine : saveurs d'ailleurs
DESCRIPTION:Sur inscription via vsg-animation.ch \nTu aimes cuisiner ou tu aimerais apprendre ? Alors viens préparer avec nous un repas complet\, sain et équilibré ! \nA la grande salle de l’école de Cormanon \nRdv sur le parking de l’école \nDès 9 ans
URL:https://www.villars-sur-glane.ch/evenement/tous-en-cuisine-saveurs-dailleurs/2025-11-08/
LOCATION:Ecole de Cormanon\, Route de la Berra 2\, Villars-sur-Glâne\, 1752\, Suisse
CATEGORIES:Animation jeunesse
ATTACH;FMTTYPE=image/jpeg:https://www.villars-sur-glane.ch/wp-content/uploads/2025/10/cuisine-scaled.jpg
ORGANIZER;CN="Villars-Animation":MAILTO:ana.domingues@villars-sur-glane.ch
END:VEVENT
END:VCALENDAR