BEGIN:VCALENDAR
VERSION:2.0
PRODID:-//Commune de Villars-sur-Glâne - ECPv6.15.17.1//NONSGML v1.0//EN
CALSCALE:GREGORIAN
METHOD:PUBLISH
X-WR-CALNAME:Commune de Villars-sur-Glâne
X-ORIGINAL-URL:https://www.villars-sur-glane.ch
X-WR-CALDESC:Évènements pour Commune de Villars-sur-Glâne
REFRESH-INTERVAL;VALUE=DURATION:PT1H
X-Robots-Tag:noindex
X-PUBLISHED-TTL:PT1H
BEGIN:VTIMEZONE
TZID:Europe/Zurich
BEGIN:DAYLIGHT
TZOFFSETFROM:+0100
TZOFFSETTO:+0200
TZNAME:CEST
DTSTART:20250330T010000
END:DAYLIGHT
BEGIN:STANDARD
TZOFFSETFROM:+0200
TZOFFSETTO:+0100
TZNAME:CET
DTSTART:20251026T010000
END:STANDARD
BEGIN:DAYLIGHT
TZOFFSETFROM:+0100
TZOFFSETTO:+0200
TZNAME:CEST
DTSTART:20260329T010000
END:DAYLIGHT
BEGIN:STANDARD
TZOFFSETFROM:+0200
TZOFFSETTO:+0100
TZNAME:CET
DTSTART:20261025T010000
END:STANDARD
BEGIN:DAYLIGHT
TZOFFSETFROM:+0100
TZOFFSETTO:+0200
TZNAME:CEST
DTSTART:20270328T010000
END:DAYLIGHT
BEGIN:STANDARD
TZOFFSETFROM:+0200
TZOFFSETTO:+0100
TZNAME:CET
DTSTART:20271031T010000
END:STANDARD
END:VTIMEZONE
BEGIN:VEVENT
DTSTART;TZID=Europe/Zurich:20260530T110000
DTEND;TZID=Europe/Zurich:20260530T140000
DTSTAMP:20260422T214149
CREATED:20260106T083635Z
LAST-MODIFIED:20260106T083635Z
UID:10004750-1780138800-1780149600@www.villars-sur-glane.ch
SUMMARY:Salon du Livre à Villars-sur-Glâne
DESCRIPTION:Salon du Livre à Villars-sur-Glâne \n\nSamedi 30 mai 2026\n\n\nde 11h à 14h\nCormanon\nLa bibliothèque sera présente au Salon du livre des éditions La Meute. Tout public\, sans inscription.
URL:https://www.villars-sur-glane.ch/evenement/salon-du-livre-a-villars-sur-glane/
LOCATION:Place de Cormanon\, Place de Cormanon\, Villars-sur-Glâne\, 1752\, Suisse
CATEGORIES:Pour toutes et tous
ATTACH;FMTTYPE=image/jpeg:https://www.villars-sur-glane.ch/wp-content/uploads/2026/01/1767687615814-d1cee234-1273-4c95-96d2-43ca08a16b09_1.jpg
END:VEVENT
END:VCALENDAR