BEGIN:VCALENDAR
VERSION:2.0
PRODID:-//Commune de Villars-sur-Glâne - ECPv6.15.17.1//NONSGML v1.0//EN
CALSCALE:GREGORIAN
METHOD:PUBLISH
X-WR-CALNAME:Commune de Villars-sur-Glâne
X-ORIGINAL-URL:https://www.villars-sur-glane.ch
X-WR-CALDESC:Évènements pour Commune de Villars-sur-Glâne
REFRESH-INTERVAL;VALUE=DURATION:PT1H
X-Robots-Tag:noindex
X-PUBLISHED-TTL:PT1H
BEGIN:VTIMEZONE
TZID:Europe/Zurich
BEGIN:DAYLIGHT
TZOFFSETFROM:+0100
TZOFFSETTO:+0200
TZNAME:CEST
DTSTART:20250330T010000
END:DAYLIGHT
BEGIN:STANDARD
TZOFFSETFROM:+0200
TZOFFSETTO:+0100
TZNAME:CET
DTSTART:20251026T010000
END:STANDARD
BEGIN:DAYLIGHT
TZOFFSETFROM:+0100
TZOFFSETTO:+0200
TZNAME:CEST
DTSTART:20260329T010000
END:DAYLIGHT
BEGIN:STANDARD
TZOFFSETFROM:+0200
TZOFFSETTO:+0100
TZNAME:CET
DTSTART:20261025T010000
END:STANDARD
BEGIN:DAYLIGHT
TZOFFSETFROM:+0100
TZOFFSETTO:+0200
TZNAME:CEST
DTSTART:20270328T010000
END:DAYLIGHT
BEGIN:STANDARD
TZOFFSETFROM:+0200
TZOFFSETTO:+0100
TZNAME:CET
DTSTART:20271031T010000
END:STANDARD
END:VTIMEZONE
BEGIN:VEVENT
DTSTART;TZID=Europe/Zurich:20260424T170000
DTEND;TZID=Europe/Zurich:20260424T174500
DTSTAMP:20260422T220247
CREATED:20260106T082224Z
LAST-MODIFIED:20260106T082224Z
UID:10004733-1777050000-1777052700@www.villars-sur-glane.ch
SUMMARY:Contes du Baluchon
DESCRIPTION:Contes du Baluchon \n\nVendredi 16 janvier 2026\nde 17h à 17h45\nGrande salle de Villars-Vert\nContes pour petits et grands\, racontés par la Compagnie du Baluchon. Dès 4 ans\, sans inscription.
URL:https://www.villars-sur-glane.ch/evenement/contes-du-baluchon-3/2026-04-24/
LOCATION:Salle de gym de l’école primaire de Villars-Vert\, Route de Villars-Vert 50\, Villars-sur-Glâne\, 1752\, Suisse
ATTACH;FMTTYPE=image/jpeg:https://www.villars-sur-glane.ch/wp-content/uploads/2026/01/1767687614896-6daa54a6-6353-4247-be98-122ad28bfea1_1.jpg
END:VEVENT
END:VCALENDAR