BEGIN:VCALENDAR
VERSION:2.0
PRODID:-//Commune de Villars-sur-Glâne - ECPv6.15.17.1//NONSGML v1.0//EN
CALSCALE:GREGORIAN
METHOD:PUBLISH
X-ORIGINAL-URL:https://www.villars-sur-glane.ch
X-WR-CALDESC:Évènements pour Commune de Villars-sur-Glâne
REFRESH-INTERVAL;VALUE=DURATION:PT1H
X-Robots-Tag:noindex
X-PUBLISHED-TTL:PT1H
BEGIN:VTIMEZONE
TZID:Europe/Zurich
BEGIN:DAYLIGHT
TZOFFSETFROM:+0100
TZOFFSETTO:+0200
TZNAME:CEST
DTSTART:20240331T010000
END:DAYLIGHT
BEGIN:STANDARD
TZOFFSETFROM:+0200
TZOFFSETTO:+0100
TZNAME:CET
DTSTART:20241027T010000
END:STANDARD
BEGIN:DAYLIGHT
TZOFFSETFROM:+0100
TZOFFSETTO:+0200
TZNAME:CEST
DTSTART:20250330T010000
END:DAYLIGHT
BEGIN:STANDARD
TZOFFSETFROM:+0200
TZOFFSETTO:+0100
TZNAME:CET
DTSTART:20251026T010000
END:STANDARD
BEGIN:DAYLIGHT
TZOFFSETFROM:+0100
TZOFFSETTO:+0200
TZNAME:CEST
DTSTART:20260329T010000
END:DAYLIGHT
BEGIN:STANDARD
TZOFFSETFROM:+0200
TZOFFSETTO:+0100
TZNAME:CET
DTSTART:20261025T010000
END:STANDARD
BEGIN:DAYLIGHT
TZOFFSETFROM:+0100
TZOFFSETTO:+0200
TZNAME:CEST
DTSTART:20270328T010000
END:DAYLIGHT
BEGIN:STANDARD
TZOFFSETFROM:+0200
TZOFFSETTO:+0100
TZNAME:CET
DTSTART:20271031T010000
END:STANDARD
END:VTIMEZONE
BEGIN:VEVENT
DTSTART;TZID=Europe/Zurich:20260417T140000
DTEND;TZID=Europe/Zurich:20260417T163000
DTSTAMP:20260423T065224
CREATED:20260325T093439Z
LAST-MODIFIED:20260325T093439Z
UID:10005241-1776434400-1776443400@www.villars-sur-glane.ch
SUMMARY:Théâtre des 4 Heures
DESCRIPTION:Nous avons le plaisir de vous inviter à découvrir le Théâtre des 4 heures\, un projet porté avec passion par des seniors pour des seniors (et tous les curieux !). \nVenez partager un moment convivial\, plein d’émotions\, de rires et de créativité. Sur scène\, des comédiens engagés vous feront voyager à travers des histoires touchantes\, drôles et inspirantes. \nQue vous soyez amateur de théâtre ou simplement à la recherche d’une belle sortie\, vous êtes les bienvenus !Rejoignez-nous et laissez-vous surprendre par l’énergie et le talent de nos artistes. \nLe vendredi 17 avril à 14h00 à la salle paroissiale de Villars-sur-Glâne. \nAu plaisir de vous y retrouver !
URL:https://www.villars-sur-glane.ch/evenement/theatre-des-4-heures/
LOCATION:Salle paroissiale\, rte de l'église 2\, Villars-sur-Glâne\, 1752\, Suisse
CATEGORIES:Pour toutes et tous,Seniors
ORGANIZER;CN="Anne-Blanche Dias":MAILTO:anne-blanche.dias@villars-sur-glane.ch
END:VEVENT
BEGIN:VEVENT
DTSTART;TZID=Europe/Zurich:20251205T160000
DTEND;TZID=Europe/Zurich:20251205T203000
DTSTAMP:20260423T065224
CREATED:20251023T151738Z
LAST-MODIFIED:20251023T151738Z
UID:10004344-1764950400-1764966600@www.villars-sur-glane.ch
SUMMARY:Fête et cortège de la Saint Nicolas
DESCRIPTION:Dans le cadre de la Saint-Nicolas \, les scouts\, l’animation et la cohésion sociale de Villars-sur-Glâne organisent un après-midi bricolage à la salle de l’école de Cormanon\, suivie d’un cortège aux flambeaux qui partira du Platy direction l’église à 18h30. \nDès 19h15\, le Saint-Nicolas\, accompagné par son âne\, fera son discours et distribuera des biscômes  devant la salle paroissiale. \nVous pourrez aussi vous régaler avec des crêpes et des gâteaux maison\, faits par les scouts.
URL:https://www.villars-sur-glane.ch/evenement/fete-et-cortege-de-la-saint-nicolas/
LOCATION:Ecole de Cormanon\, Route de la Berra 2\, Villars-sur-Glâne\, 1752\, Suisse
ATTACH;FMTTYPE=application/pdf:https://www.villars-sur-glane.ch/wp-content/uploads/2025/10/fete-de-la-saint-nicolas-2025.pdf
ORGANIZER;CN="Coh%C3%A9sion sociale":MAILTO:raphaelle.pugin@villars-sur-glane.ch
END:VEVENT
END:VCALENDAR