BEGIN:VCALENDAR
VERSION:2.0
PRODID:-//Commune de Villars-sur-Glâne - ECPv6.15.17.1//NONSGML v1.0//EN
CALSCALE:GREGORIAN
METHOD:PUBLISH
X-ORIGINAL-URL:https://www.villars-sur-glane.ch
X-WR-CALDESC:Évènements pour Commune de Villars-sur-Glâne
REFRESH-INTERVAL;VALUE=DURATION:PT1H
X-Robots-Tag:noindex
X-PUBLISHED-TTL:PT1H
BEGIN:VTIMEZONE
TZID:Europe/Zurich
BEGIN:DAYLIGHT
TZOFFSETFROM:+0100
TZOFFSETTO:+0200
TZNAME:CEST
DTSTART:20240331T010000
END:DAYLIGHT
BEGIN:STANDARD
TZOFFSETFROM:+0200
TZOFFSETTO:+0100
TZNAME:CET
DTSTART:20241027T010000
END:STANDARD
BEGIN:DAYLIGHT
TZOFFSETFROM:+0100
TZOFFSETTO:+0200
TZNAME:CEST
DTSTART:20250330T010000
END:DAYLIGHT
BEGIN:STANDARD
TZOFFSETFROM:+0200
TZOFFSETTO:+0100
TZNAME:CET
DTSTART:20251026T010000
END:STANDARD
BEGIN:DAYLIGHT
TZOFFSETFROM:+0100
TZOFFSETTO:+0200
TZNAME:CEST
DTSTART:20260329T010000
END:DAYLIGHT
BEGIN:STANDARD
TZOFFSETFROM:+0200
TZOFFSETTO:+0100
TZNAME:CET
DTSTART:20261025T010000
END:STANDARD
END:VTIMEZONE
BEGIN:VEVENT
DTSTART;TZID=Europe/Zurich:20251105T140000
DTEND;TZID=Europe/Zurich:20251105T160000
DTSTAMP:20260422T222326
CREATED:20251013T131938Z
LAST-MODIFIED:20251013T131938Z
UID:10004317-1762351200-1762358400@www.villars-sur-glane.ch
SUMMARY:Jeux vidéo
DESCRIPTION:Jeux vidéo \n\n\nMercredi 5 novembre 2025\n\nde 14h à 16h\nBibliothèque communale\nQue tu sois joueur·euse débutant·e ou gamer·euse confirmé·e\, viens découvrir une sélection de jeux vidéo pour s’amuser avec tes ami·e·s ! De 7 à 13 ans\, inscription obligatoire.\n\nAffiche en pièce-jointe
URL:https://www.villars-sur-glane.ch/evenement/jeux-video-2/
LOCATION:Bibliothèque Communale\, Rte de Villars-Vert 48\, Villars-sur-Glâne\, Fribourg\, 1752\, Suisse
ATTACH;FMTTYPE=application/pdf:https://www.villars-sur-glane.ch/wp-content/uploads/2025/10/Aff_Med_Cult_JV.pdf
END:VEVENT
BEGIN:VEVENT
DTSTART;TZID=Europe/Zurich:20251029T140000
DTEND;TZID=Europe/Zurich:20251029T150000
DTSTAMP:20260422T222326
CREATED:20251013T131632Z
LAST-MODIFIED:20251013T131801Z
UID:10004316-1761746400-1761750000@www.villars-sur-glane.ch
SUMMARY:Echappe-toi de la bibliothèque ! Escape Game
DESCRIPTION:Mercredi 29 octobre 2025\n\nde 14h à 15h\nBibliothèque communale\n\nPour Halloween\, la bibliothèque te défie avec un Escape Game.\nArriveras-tu à t’échapper à temps ? De 9 à 13 ans\, inscription obligatoire.\n\nAffiche en pièce-jointe
URL:https://www.villars-sur-glane.ch/evenement/echappe-toi-de-la-bibliotheque-escape-game/
LOCATION:Bibliothèque Communale\, Rte de Villars-Vert 48\, Villars-sur-Glâne\, Fribourg\, 1752\, Suisse
CATEGORIES:Animation jeunesse
ATTACH;FMTTYPE=application/pdf:https://www.villars-sur-glane.ch/wp-content/uploads/2025/10/Aff_Med_Cult_Escapegame.pdf
END:VEVENT
BEGIN:VEVENT
DTSTART;TZID=Europe/Zurich:20250927T091500
DTEND;TZID=Europe/Zurich:20250927T094500
DTSTAMP:20260422T222326
CREATED:20250716T121246Z
LAST-MODIFIED:20250716T121246Z
UID:10003759-1758964500-1758966300@www.villars-sur-glane.ch
SUMMARY:Né pour lire
DESCRIPTION:Né pour lire \n\nSamedi 27 septembre 2025\nde 9h15 à 9h45\nBibliothèque communale\nDes histoires pour découvrir les livres dès le plus jeune âge et partager un moment de tendresse. De 0 à 4 ans\, inscription obligatoire.\n\n 
URL:https://www.villars-sur-glane.ch/evenement/ne-pour-lire/
LOCATION:Bibliothèque Communale\, Rte de Villars-Vert 48\, Villars-sur-Glâne\, Fribourg\, 1752\, Suisse
CATEGORIES:Seniors
ATTACH;FMTTYPE=image/png:https://www.villars-sur-glane.ch/wp-content/uploads/2025/07/anim_biblio_ne_pour_lire.png
END:VEVENT
BEGIN:VEVENT
DTSTART;TZID=Europe/Zurich:20250924T130000
DTEND;TZID=Europe/Zurich:20250924T150000
DTSTAMP:20260422T222326
CREATED:20250716T121056Z
LAST-MODIFIED:20250716T121056Z
UID:10003758-1758718800-1758726000@www.villars-sur-glane.ch
SUMMARY:Découverte de la bibliothèque communale – Villars-Vert
DESCRIPTION:Découverte de la bibliothèque communale – Villars-Vert \n\nMercredi 24 septembre 2025\nde 13h à 15h\nBibliothèque communale\nLa bibliothèque communale ouvre ses portes aux élèves de Villars-Vert ! Viens avec tes camarades découvrir ce lieu plein de livres\, d’histoires et de surprises. De la 5H\, inscription obligatoire.\n\n 
URL:https://www.villars-sur-glane.ch/evenement/decouverte-de-la-bibliotheque-communale-villars-vert/
LOCATION:Bibliothèque Communale\, Rte de Villars-Vert 48\, Villars-sur-Glâne\, Fribourg\, 1752\, Suisse
CATEGORIES:Seniors
ATTACH;FMTTYPE=image/png:https://www.villars-sur-glane.ch/wp-content/uploads/2025/07/anim_biblio_visite_vv.png
END:VEVENT
BEGIN:VEVENT
DTSTART;TZID=Europe/Zurich:20250917T140000
DTEND;TZID=Europe/Zurich:20250917T160000
DTSTAMP:20260422T222326
CREATED:20250716T120924Z
LAST-MODIFIED:20250716T120924Z
UID:10003757-1758117600-1758124800@www.villars-sur-glane.ch
SUMMARY:Jeux vidéo
DESCRIPTION:Jeux vidéo \n\nMercredi 17 septembre 2025\nde 14h à 16h\nBibliothèque communale\nQue tu sois joueur·euse débutant·e ou gamer·euse confirmé·e\, viens découvrir une sélection de jeux vidéo pour s’amuser avec tes ami·e·s ! De 7 à 13 ans\, inscription obligatoire.\n\n 
URL:https://www.villars-sur-glane.ch/evenement/jeux-video/
LOCATION:Bibliothèque Communale\, Rte de Villars-Vert 48\, Villars-sur-Glâne\, Fribourg\, 1752\, Suisse
CATEGORIES:Pour toutes et tous
ATTACH;FMTTYPE=image/png:https://www.villars-sur-glane.ch/wp-content/uploads/2025/07/anim_biblio_jeux_video.png
END:VEVENT
BEGIN:VEVENT
DTSTART;TZID=Europe/Zurich:20250912T170000
DTEND;TZID=Europe/Zurich:20250912T174500
DTSTAMP:20260422T222326
CREATED:20250716T120817Z
LAST-MODIFIED:20250716T120817Z
UID:10003756-1757696400-1757699100@www.villars-sur-glane.ch
SUMMARY:Contes du Baluchon
DESCRIPTION:Contes du Baluchon \n\nVendredi 12 septembre 2025\nde 17h à 17h45\nBibliothèque communale\nContes pour petits et grands\, racontés par la Compagnie du Baluchon. Dès 6 ans\, sans inscription.\n\n 
URL:https://www.villars-sur-glane.ch/evenement/contes-du-baluchon/
LOCATION:Bibliothèque Communale\, Rte de Villars-Vert 48\, Villars-sur-Glâne\, Fribourg\, 1752\, Suisse
CATEGORIES:Seniors
ATTACH;FMTTYPE=image/png:https://www.villars-sur-glane.ch/wp-content/uploads/2025/07/anim_biblio_contes_baluchon.png
END:VEVENT
BEGIN:VEVENT
DTSTART;TZID=Europe/Zurich:20250911T133000
DTEND;TZID=Europe/Zurich:20250911T153000
DTSTAMP:20260422T222326
CREATED:20250716T120438Z
LAST-MODIFIED:20250716T121001Z
UID:10003755-1757597400-1757604600@www.villars-sur-glane.ch
SUMMARY:Visite de la bibliothèque et découverte du métier de relieur – Groupement des Aîné·e·s
DESCRIPTION:Visite de la bibliothèque et découverte du métier de relieur – Groupement des Aîné·e·s \n\nJeudi 11 septembre 2025\nde 13h30 à 15h30\nBibliothèque communale\nPrésentation de la bibliothèque au groupement des Aîné·e·s de Villars-sur-Glâne et découverte du métier de relieuse-restauratrice avec Carole Jeanneret. Pour les adultes\, inscription obligatoire.\n\n 
URL:https://www.villars-sur-glane.ch/evenement/visite-de-la-bibliotheque-et-decouverte-du-metier-de-relieur-groupement-des-aine%c2%b7e%c2%b7s/
LOCATION:Bibliothèque Communale\, Rte de Villars-Vert 48\, Villars-sur-Glâne\, Fribourg\, 1752\, Suisse
CATEGORIES:Seniors
ATTACH;FMTTYPE=image/png:https://www.villars-sur-glane.ch/wp-content/uploads/2025/07/anim_biblio_groupement_aines.png
END:VEVENT
END:VCALENDAR