BEGIN:VCALENDAR
VERSION:2.0
PRODID:-//Commune de Villars-sur-Glâne - ECPv6.15.17.1//NONSGML v1.0//EN
CALSCALE:GREGORIAN
METHOD:PUBLISH
X-ORIGINAL-URL:https://www.villars-sur-glane.ch
X-WR-CALDESC:Évènements pour Commune de Villars-sur-Glâne
REFRESH-INTERVAL;VALUE=DURATION:PT1H
X-Robots-Tag:noindex
X-PUBLISHED-TTL:PT1H
BEGIN:VTIMEZONE
TZID:Europe/Zurich
BEGIN:DAYLIGHT
TZOFFSETFROM:+0100
TZOFFSETTO:+0200
TZNAME:CEST
DTSTART:20250330T010000
END:DAYLIGHT
BEGIN:STANDARD
TZOFFSETFROM:+0200
TZOFFSETTO:+0100
TZNAME:CET
DTSTART:20251026T010000
END:STANDARD
BEGIN:DAYLIGHT
TZOFFSETFROM:+0100
TZOFFSETTO:+0200
TZNAME:CEST
DTSTART:20260329T010000
END:DAYLIGHT
BEGIN:STANDARD
TZOFFSETFROM:+0200
TZOFFSETTO:+0100
TZNAME:CET
DTSTART:20261025T010000
END:STANDARD
BEGIN:DAYLIGHT
TZOFFSETFROM:+0100
TZOFFSETTO:+0200
TZNAME:CEST
DTSTART:20270328T010000
END:DAYLIGHT
BEGIN:STANDARD
TZOFFSETFROM:+0200
TZOFFSETTO:+0100
TZNAME:CET
DTSTART:20271031T010000
END:STANDARD
END:VTIMEZONE
BEGIN:VEVENT
DTSTART;TZID=Europe/Zurich:20260328T170000
DTEND;TZID=Europe/Zurich:20260328T190000
DTSTAMP:20260423T001633
CREATED:20260121T090037Z
LAST-MODIFIED:20260121T090037Z
UID:10004758-1774717200-1774724400@www.villars-sur-glane.ch
SUMMARY:Danse du bien-être
DESCRIPTION:Venez danser sans pression avec plaisir. \nSéance suivie d’un apéro offert.
URL:https://www.villars-sur-glane.ch/evenement/danse-du-bien-etre-2/2026-03-28/
LOCATION:Platy
ATTACH;FMTTYPE=application/pdf:https://www.villars-sur-glane.ch/wp-content/uploads/2026/01/DANSE-DU-BIEN-ETRE-2026-1.pdf
ORGANIZER;CN="R%C3%A9gina Zaugg":MAILTO:regina.zaugg@bluewin.ch
END:VEVENT
BEGIN:VEVENT
DTSTART;TZID=Europe/Zurich:20260228T170000
DTEND;TZID=Europe/Zurich:20260228T190000
DTSTAMP:20260423T001633
CREATED:20260121T090037Z
LAST-MODIFIED:20260121T090037Z
UID:10004757-1772298000-1772305200@www.villars-sur-glane.ch
SUMMARY:Danse du bien-être
DESCRIPTION:Venez danser sans pression avec plaisir. \nSéance suivie d’un apéro offert.
URL:https://www.villars-sur-glane.ch/evenement/danse-du-bien-etre-2/2026-02-28/
LOCATION:Platy
ATTACH;FMTTYPE=application/pdf:https://www.villars-sur-glane.ch/wp-content/uploads/2026/01/DANSE-DU-BIEN-ETRE-2026-1.pdf
ORGANIZER;CN="R%C3%A9gina Zaugg":MAILTO:regina.zaugg@bluewin.ch
END:VEVENT
BEGIN:VEVENT
DTSTART;TZID=Europe/Zurich:20260131T170000
DTEND;TZID=Europe/Zurich:20260131T190000
DTSTAMP:20260423T001633
CREATED:20260121T091113Z
LAST-MODIFIED:20260121T091113Z
UID:10004764-1769878800-1769886000@www.villars-sur-glane.ch
SUMMARY:Danse du bien-être
DESCRIPTION:Venez danser sans pression avec plaisir. \nSéance suivie d’un apéro offert.
URL:https://www.villars-sur-glane.ch/evenement/danse-du-bien-etre-3/
LOCATION:Platy
ATTACH;FMTTYPE=application/pdf:https://www.villars-sur-glane.ch/wp-content/uploads/2026/01/DANSE-DU-BIEN-ETRE-2026-2.pdf
ORGANIZER;CN="R%C3%A9gina Zaugg":MAILTO:regina.zaugg@bluewin.ch
END:VEVENT
END:VCALENDAR