BEGIN:VCALENDAR
VERSION:2.0
PRODID:-//Commune de Villars-sur-Glâne - ECPv6.15.17.1//NONSGML v1.0//EN
CALSCALE:GREGORIAN
METHOD:PUBLISH
X-WR-CALNAME:Commune de Villars-sur-Glâne
X-ORIGINAL-URL:https://www.villars-sur-glane.ch
X-WR-CALDESC:Évènements pour Commune de Villars-sur-Glâne
REFRESH-INTERVAL;VALUE=DURATION:PT1H
X-Robots-Tag:noindex
X-PUBLISHED-TTL:PT1H
BEGIN:VTIMEZONE
TZID:Europe/Zurich
BEGIN:DAYLIGHT
TZOFFSETFROM:+0100
TZOFFSETTO:+0200
TZNAME:CEST
DTSTART:20250330T010000
END:DAYLIGHT
BEGIN:STANDARD
TZOFFSETFROM:+0200
TZOFFSETTO:+0100
TZNAME:CET
DTSTART:20251026T010000
END:STANDARD
BEGIN:DAYLIGHT
TZOFFSETFROM:+0100
TZOFFSETTO:+0200
TZNAME:CEST
DTSTART:20260329T010000
END:DAYLIGHT
BEGIN:STANDARD
TZOFFSETFROM:+0200
TZOFFSETTO:+0100
TZNAME:CET
DTSTART:20261025T010000
END:STANDARD
BEGIN:DAYLIGHT
TZOFFSETFROM:+0100
TZOFFSETTO:+0200
TZNAME:CEST
DTSTART:20270328T010000
END:DAYLIGHT
BEGIN:STANDARD
TZOFFSETFROM:+0200
TZOFFSETTO:+0100
TZNAME:CET
DTSTART:20271031T010000
END:STANDARD
END:VTIMEZONE
BEGIN:VEVENT
DTSTART;TZID=Europe/Zurich:20260425T170000
DTEND;TZID=Europe/Zurich:20260425T190000
DTSTAMP:20260423T001229
CREATED:20260121T090037Z
LAST-MODIFIED:20260121T090037Z
UID:10004759-1777136400-1777143600@www.villars-sur-glane.ch
SUMMARY:Danse du bien-être
DESCRIPTION:Venez danser sans pression avec plaisir. \nSéance suivie d’un apéro offert.
URL:https://www.villars-sur-glane.ch/evenement/danse-du-bien-etre-2/2026-04-25/
LOCATION:Platy
ATTACH;FMTTYPE=application/pdf:https://www.villars-sur-glane.ch/wp-content/uploads/2026/01/DANSE-DU-BIEN-ETRE-2026-1.pdf
ORGANIZER;CN="R%C3%A9gina Zaugg":MAILTO:regina.zaugg@bluewin.ch
END:VEVENT
BEGIN:VEVENT
DTSTART;TZID=Europe/Zurich:20260530T170000
DTEND;TZID=Europe/Zurich:20260530T190000
DTSTAMP:20260423T001229
CREATED:20260121T090037Z
LAST-MODIFIED:20260121T090037Z
UID:10004760-1780160400-1780167600@www.villars-sur-glane.ch
SUMMARY:Danse du bien-être
DESCRIPTION:Venez danser sans pression avec plaisir. \nSéance suivie d’un apéro offert.
URL:https://www.villars-sur-glane.ch/evenement/danse-du-bien-etre-2/2026-05-30/
LOCATION:Platy
ATTACH;FMTTYPE=application/pdf:https://www.villars-sur-glane.ch/wp-content/uploads/2026/01/DANSE-DU-BIEN-ETRE-2026-1.pdf
ORGANIZER;CN="R%C3%A9gina Zaugg":MAILTO:regina.zaugg@bluewin.ch
END:VEVENT
BEGIN:VEVENT
DTSTART;TZID=Europe/Zurich:20260627T170000
DTEND;TZID=Europe/Zurich:20260627T190000
DTSTAMP:20260423T001229
CREATED:20260121T090037Z
LAST-MODIFIED:20260121T090037Z
UID:10004761-1782579600-1782586800@www.villars-sur-glane.ch
SUMMARY:Danse du bien-être
DESCRIPTION:Venez danser sans pression avec plaisir. \nSéance suivie d’un apéro offert.
URL:https://www.villars-sur-glane.ch/evenement/danse-du-bien-etre-2/2026-06-27/
LOCATION:Platy
ATTACH;FMTTYPE=application/pdf:https://www.villars-sur-glane.ch/wp-content/uploads/2026/01/DANSE-DU-BIEN-ETRE-2026-1.pdf
ORGANIZER;CN="R%C3%A9gina Zaugg":MAILTO:regina.zaugg@bluewin.ch
END:VEVENT
END:VCALENDAR